BEGIN:VCALENDAR
VERSION:2.0
CALSCALE:GREGORIAN
PRODID:adamgibbons/ics
METHOD:PUBLISH
X-PUBLISHED-TTL:PT1H
BEGIN:VEVENT
UID:5002@des.convoca.la
SUMMARY:III ENCUENTRO DE ARTE Y CREATIVIDAD EN CARABANCHEL
DTSTAMP:20260425T130545Z
DTSTART:20260522T160000Z
DTEND:20260524T200000Z
URL:https://des.convoca.la/event/iii-encuentro-de-arte-y-creatividad-en-car
	abanchel
GEO:40.3917682;-3.7310561
LOCATION:ESLA Eko - 10\, Calle del Ánade\, San Isidro\, Carabanchel\, Madri
	d\, Área metropolitana de Madrid y Corredor del Henares\, Comunidad de Mad
	rid\, 28019\, EspañaDÍA DE CARRERAS
STATUS:CONFIRMED
CATEGORIES:Arte,Encuentro,Madrid,creatividad
END:VEVENT
END:VCALENDAR
