BEGIN:VCALENDAR
VERSION:2.0
CALSCALE:GREGORIAN
PRODID:adamgibbons/ics
METHOD:PUBLISH
X-PUBLISHED-TTL:PT1H
BEGIN:VEVENT
UID:4999@des.convoca.la
SUMMARY:Jornada Contra el Trabajo
DTSTAMP:20260425T130532Z
DTSTART:20260523T133000Z
DTEND:20260523T203000Z
URL:https://des.convoca.la/event/jornada-contra-el-trabajo
GEO:40.40945;-3.70965
LOCATION:CSO La Rosa - Calle Bastero 1
STATUS:CONFIRMED
CATEGORIES:Charlas,Jornada,Madrid,anarquismo,taller,trabajo
END:VEVENT
END:VCALENDAR
