BEGIN:VCALENDAR
VERSION:2.0
CALSCALE:GREGORIAN
PRODID:adamgibbons/ics
METHOD:PUBLISH
X-PUBLISHED-TTL:PT1H
BEGIN:VEVENT
UID:4954@des.convoca.la
SUMMARY:ACTE CORRELLENGUA AGERMANAT 2026
DTSTAMP:20260422T010832Z
DTSTART:20260425T150000Z
DTEND:20260425T193000Z
URL:https://des.convoca.la/event/acte-correllengua-agermanat-2026
LOCATION:PONT DE FUSTA - ENTRE PONT DE FUSTA I PONT DEL REAL
STATUS:CONFIRMED
CATEGORIES:BDS,CORRELLENGUA,Diada del País Valencià,valencia,valència
END:VEVENT
END:VCALENDAR
