BEGIN:VCALENDAR
VERSION:2.0
CALSCALE:GREGORIAN
PRODID:adamgibbons/ics
METHOD:PUBLISH
X-PUBLISHED-TTL:PT1H
BEGIN:VEVENT
UID:4888@des.convoca.la
SUMMARY:Bordando Juntites
DTSTAMP:20260421T210033Z
DTSTART:20260422T160000Z
DTEND:20260422T180000Z
URL:https://des.convoca.la/event/bordando-juntites
GEO:40.40945;-3.70965
LOCATION:CSO La Rosa - Calle Bastero 1
STATUS:CONFIRMED
CATEGORIES:Madrid
END:VEVENT
BEGIN:VEVENT
UID:4889@des.convoca.la
SUMMARY:Miércoles de Juegos de Mesa en La Rosa
DTSTAMP:20260421T210033Z
DTSTART:20260422T160000Z
DTEND:20260422T200000Z
URL:https://des.convoca.la/event/miercoles-de-juegos-de-mesa-en-la-rosa
GEO:40.40945;-3.70965
LOCATION:CSO La Rosa - Calle Bastero 1
STATUS:CONFIRMED
CATEGORIES:Madrid
END:VEVENT
BEGIN:VEVENT
UID:4890@des.convoca.la
SUMMARY:TALLERES MOVIMIENTO VITAL EXPRESIVO
DTSTAMP:20260421T210033Z
DTSTART:20260422T164500Z
DTEND:20260422T180000Z
URL:https://des.convoca.la/event/talleres-movimiento-vital-expresivo
GEO:40.40945;-3.70965
LOCATION:CSO La Rosa - Calle Bastero 1
STATUS:CONFIRMED
CATEGORIES:Madrid
END:VEVENT
BEGIN:VEVENT
UID:4886@des.convoca.la
SUMMARY:Taller abierto “El Keller”
DTSTAMP:20260421T210033Z
DTSTART:20260422T170000Z
DTEND:20260422T200000Z
URL:https://des.convoca.la/event/taller-abierto-el-keller
GEO:40.40945;-3.70965
LOCATION:CSO La Rosa - Calle Bastero 1
STATUS:CONFIRMED
CATEGORIES:Madrid
END:VEVENT
BEGIN:VEVENT
UID:4943@des.convoca.la
SUMMARY:Ven a bailar swing con TabacaleraSwing
DTSTAMP:20260421T210033Z
DTSTART:20260422T180000Z
DTEND:20260422T200000Z
URL:https://des.convoca.la/event/ven-a-bailar-swing-con-tabacaleraswing
GEO:40.40945;-3.70965
LOCATION:CSO La Rosa - Calle Bastero 1
STATUS:CONFIRMED
CATEGORIES:Madrid
END:VEVENT
BEGIN:VEVENT
UID:4949@des.convoca.la
SUMMARY:Micro Abierto de Comedia Alteenativa
DTSTAMP:20260421T210033Z
DTSTART:20260423T180000Z
DTEND:20260423T200000Z
URL:https://des.convoca.la/event/micro-abierto-de-comedia-alteenativa
GEO:40.40945;-3.70965
LOCATION:CSO La Rosa - Calle Bastero 1
STATUS:CONFIRMED
CATEGORIES:Madrid
END:VEVENT
BEGIN:VEVENT
UID:4948@des.convoca.la
SUMMARY:Poemas y bailes para Corasanar
DTSTAMP:20260421T210033Z
DTSTART:20260424T173000Z
DTEND:20260424T210000Z
URL:https://des.convoca.la/event/poemas-y-bailes-para-corasanar
GEO:40.40945;-3.70965
LOCATION:CSO La Rosa - Calle Bastero 1
STATUS:CONFIRMED
CATEGORIES:#microabierto,Antiracismo,Fanzines,Madrid,Poesía,Transfeminista,
	dj set
END:VEVENT
BEGIN:VEVENT
UID:4929@des.convoca.la
SUMMARY:Grupo de lectura: El Capital
DTSTAMP:20260421T210033Z
DTSTART:20260425T093000Z
DTEND:20260425T113000Z
URL:https://des.convoca.la/event/grupo-de-lectura-el-capital
GEO:40.40945;-3.70965
LOCATION:CSO La Rosa - Calle Bastero 1
STATUS:CONFIRMED
CATEGORIES:GrupoDeLectura,Madrid,Marxismo
END:VEVENT
BEGIN:VEVENT
UID:4919@des.convoca.la
SUMMARY:Clases de Yoga
DTSTAMP:20260421T210033Z
DTSTART:20260425T100000Z
DTEND:20260425T113000Z
URL:https://des.convoca.la/event/clases-de-yoga-1
GEO:40.40945;-3.70965
LOCATION:CSO La Rosa - Calle Bastero 1
STATUS:CONFIRMED
CATEGORIES:Madrid
END:VEVENT
BEGIN:VEVENT
UID:4924@des.convoca.la
SUMMARY:Bad Art Club
DTSTAMP:20260421T210033Z
DTSTART:20260425T160000Z
DTEND:20260425T180000Z
URL:https://des.convoca.la/event/bad-art-club
GEO:40.40945;-3.70965
LOCATION:CSO La Rosa - Calle Bastero 1
STATUS:CONFIRMED
CATEGORIES:Madrid
END:VEVENT
BEGIN:VEVENT
UID:4956@des.convoca.la
SUMMARY:Iniciación al Tai-Chi Zen
DTSTAMP:20260421T210033Z
DTSTART:20260428T170000Z
DTEND:20260428T180000Z
URL:https://des.convoca.la/event/iniciacion-al-tai-chi-zen-1
GEO:40.40945;-3.70965
LOCATION:CSO La Rosa - Calle Bastero 1
STATUS:CONFIRMED
CATEGORIES:Madrid
END:VEVENT
BEGIN:VEVENT
UID:4606@des.convoca.la
SUMMARY:Club de Lectura
DTSTAMP:20260421T210033Z
DTSTART:20260430T160000Z
DTEND:20260430T180000Z
URL:https://des.convoca.la/event/club-de-lectura
GEO:40.40945;-3.70965
LOCATION:CSO La Rosa - Calle Bastero 1
STATUS:CONFIRMED
CATEGORIES:Madrid
END:VEVENT
BEGIN:VEVENT
UID:4754@des.convoca.la
SUMMARY:PLINTAM-Do: autodefensa queer
DTSTAMP:20260421T210033Z
DTSTART:20260501T160000Z
DTEND:20260501T180000Z
URL:https://des.convoca.la/event/plintam-do-autodefensa-queer-1
GEO:40.40945;-3.70965
LOCATION:CSO La Rosa - Calle Bastero 1
STATUS:CONFIRMED
CATEGORIES:Madrid
END:VEVENT
BEGIN:VEVENT
UID:4907@des.convoca.la
SUMMARY:¿PSI? PUES NO. Jornadas hacia la abolición de la psicología
DTSTAMP:20260421T210033Z
DTSTART:20260509T103000Z
DTEND:20260509T210000Z
URL:https://des.convoca.la/event/psi-pues-no-jornadas-hacia-la-abolicion-de
	-la-psicologia
GEO:40.40945;-3.70965
LOCATION:CSO La Rosa - Calle Bastero 1
STATUS:CONFIRMED
CATEGORIES:Madrid
END:VEVENT
END:VCALENDAR
