BEGIN:VCALENDAR
VERSION:2.0
CALSCALE:GREGORIAN
PRODID:adamgibbons/ics
METHOD:PUBLISH
X-PUBLISHED-TTL:PT1H
BEGIN:VEVENT
UID:4952@des.convoca.la
SUMMARY:¿Y si soy más machi de lo que pienso?
DTSTAMP:20260421T235419Z
DTSTART:20260425T090000Z
DTEND:20260425T110000Z
DESCRIPTION:¿Y si soy más machi de lo que pienso?\n\nEl próximo sábado nos 
	reunimos\, en @3peces3\, para revisar comportamientos\nmachistas en el dep
	orte y pensar\, entre hombres\, cómo dejar de reproducirlos.\n\nUn taller 
	no mixto dirigido a hombres de la Liga Cooperativa de Baloncesto\, y\nabie
	rto también a otros hombres que practiquen deporte y quieran reflexionar\n
	sobre estas dinámicas.\n\nSábado 25 de abril · 11:00\n\nCSA 3peces3 (c/Tre
	s Peces\, 3)\n\n<M> Antón Martín y Lavapiés\n\nActividad organizada por la
	 Comisión Feminista de la LCB y Blandengues.
URL:https://des.convoca.la/event/y-si-soy-mas-machi-de-lo-que-pienso
GEO:40.4107691;-3.7001204
LOCATION:CSA  Tres Peces Tres - Calle Tres Peces 3
STATUS:CONFIRMED
CATEGORIES:Madrid
X-ALT-DESC;FMTTYPE=text/html:<p>¿Y si soy más machi de lo que pienso?</p><p
	>El próximo sábado nos reunimos, en @3peces3, para revisar comportamientos
	 machistas en el deporte y pensar, entre hombres, cómo dejar de reproducir
	los.</p><p>Un taller no mixto dirigido a hombres de la Liga Cooperativa de
	 Baloncesto, y abierto también a otros hombres que practiquen deporte y qu
	ieran reflexionar sobre estas dinámicas.</p><p>Sábado 25 de abril · 11:00<
	/p><p>CSA 3peces3 (c/Tres Peces, 3)</p><p>&lt;M&gt; Antón Martín y Lavapié
	s</p><p>Actividad organizada por la Comisión Feminista de la LCB y Blanden
	gues.</p>
BEGIN:VALARM
ACTION:DISPLAY
DESCRIPTION:¿Y si soy más machi de lo que pienso?
TRIGGER:-PT1H
END:VALARM
END:VEVENT
END:VCALENDAR
