BEGIN:VCALENDAR
VERSION:2.0
CALSCALE:GREGORIAN
PRODID:adamgibbons/ics
METHOD:PUBLISH
X-PUBLISHED-TTL:PT1H
BEGIN:VEVENT
UID:4928@des.convoca.la
SUMMARY:Presentació del fanzine "Tan guapa de cara: gordura y sexualidad"
DTSTAMP:20260419T140920Z
DTSTART:20260420T170000Z
DTEND:20260420T190000Z
DESCRIPTION:PRESENTACIÓ DEL FANZINE "TAN GUAPA DE CARA"\n\na càrrec de Carm
	en Godino (junt a la presentació de l'Observatori de Gordofòbia\nSaniària)
	\n\n“Tan guapa de cara: gordura y sexualidad” es un fanzine que parte de l
	a herida\nentorno a las relaciones sexo afectivas y el cuerpo gordo\, pero
	 que pretende ser\nmás que la herida. Con ilustraciones de Paloma Pérez- i
	lustradora alicantina con\ndiferentes trabajos entorno al cuerpo gordo y l
	a crítica a la gordofobia- y\ntextos de Carmen Godino- desde 2017 hablando
	 sobre gordofobia y presión\nestetica-\, además de un QR a la versión exte
	nsa del texto. El fanzine pretende\nreflexionar sobre el capital sexual\, 
	la gordofobia\, la pornografía\, el deseo\, la\nseducción\, la agencia sob
	re el propio cuerpo\, entre otros. El fanzine\, ha sido\npresentado en Cas
	tellón\, Alicante y Valencia y repite con este acto. A esperas\nde poder p
	resentarlo en Bilbao\, Madrid y Barcelona. Por último\, podéis disfrutar\n
	de “Tan guapa de cara” en castellano y en valenciano.\n\n
URL:https://des.convoca.la/event/presentacio-del-fanzine-tan-guapa-de-cara-
	gordura-y-sexualidad
GEO:39.4658;-0.329767
LOCATION:Ateneu Llibertari del Cabanyal - C/ Barraca 57\, baix esquerra
STATUS:CONFIRMED
CATEGORIES:valència,valencia,XXIV Mostra del Llibre Anarquista,gordofòbia,s
	exualitat
X-ALT-DESC;FMTTYPE=text/html:<h2>PRESENTACIÓ DEL FANZINE "TAN GUAPA DE CARA
	"</h2><p>a càrrec de Carmen Godino <strong>(junt a la presentació de l'Obs
	ervatori de Gordofòbia Saniària)</strong></p><p>“Tan guapa de cara: gordur
	a y sexualidad” es un fanzine que parte de la herida entorno a las relacio
	nes sexo afectivas y el cuerpo gordo, pero que pretende ser más que la her
	ida. Con ilustraciones de Paloma Pérez- ilustradora alicantina con diferen
	tes trabajos entorno al cuerpo gordo y la crítica a la gordofobia- y texto
	s de Carmen Godino- desde 2017 hablando sobre gordofobia y presión estetic
	a-, además de un QR a la versión extensa del texto. El fanzine pretende re
	flexionar sobre el capital sexual, la gordofobia, la pornografía, el deseo
	, la seducción, la agencia sobre el propio cuerpo, entre otros. El fanzine
	, ha sido presentado en Castellón, Alicante y Valencia y repite con este a
	cto. A esperas de poder presentarlo en Bilbao, Madrid y Barcelona. Por últ
	imo, podéis disfrutar de “Tan guapa de cara” en castellano y en valenciano
	.</p><p></p>
BEGIN:VALARM
ACTION:DISPLAY
DESCRIPTION:Presentació del fanzine "Tan guapa de cara: gordura y sexualida
	d"
TRIGGER:-PT1H
END:VALARM
END:VEVENT
END:VCALENDAR
