BEGIN:VCALENDAR
VERSION:2.0
CALSCALE:GREGORIAN
PRODID:adamgibbons/ics
METHOD:PUBLISH
X-PUBLISHED-TTL:PT1H
BEGIN:VEVENT
UID:4927@des.convoca.la
SUMMARY:PARDALEJANT - Ruta ornitològica per l'horta de Benimaclet
DTSTAMP:20260419T120007Z
DTSTART:20260421T163000Z
DTEND:20260421T183000Z
DESCRIPTION:El proper dimarts 21 d'abril ens trobem a les 18:30h en el Jard
	í Lluerna per fer\nuna passejada i posar en valor la biodiversitat dels te
	rrenys afectats pel PAI\nde Benimaclet. 🌳\n\nPosarem atenció en les aus i 
	en la seva relació amb el benestar\, la salut\ncomunitària i la defensa d'
	un territori que va més enllà de la presència humana.\nActivitat recomanad
	a per a totes les edats. 🐣\n\nT'esperem! ❤️
URL:https://des.convoca.la/event/pardalejant-ruta-ornitologica-per-lhorta-d
	e-benimaclet
LOCATION:Jardí Lluerna (Benimaclet) - Descampat de Benimaclet
STATUS:CONFIRMED
CATEGORIES:valència,valencia
X-ALT-DESC;FMTTYPE=text/html:<p>El proper dimarts 21 d'abril ens trobem a l
	es 18:30h en el Jardí Lluerna per fer una passejada i posar en valor la bi
	odiversitat dels terrenys afectats pel PAI de Benimaclet. 🌳<br><br>Posarem
	 atenció en les aus i en la seva relació amb el benestar, la salut comunit
	ària i la defensa d'un territori que va més enllà de la presència humana. 
	Activitat recomanada per a totes les edats. 🐣<br><br>T'esperem! ❤️</p>
BEGIN:VALARM
ACTION:DISPLAY
DESCRIPTION:PARDALEJANT - Ruta ornitològica per l'horta de Benimaclet
TRIGGER:-PT1H
END:VALARM
END:VEVENT
END:VCALENDAR
