BEGIN:VCALENDAR
VERSION:2.0
CALSCALE:GREGORIAN
PRODID:adamgibbons/ics
METHOD:PUBLISH
X-PUBLISHED-TTL:PT1H
BEGIN:VEVENT
UID:4989@des.convoca.la
SUMMARY:Otro
DTSTAMP:20260423T165643Z
DTSTART:20260507T100500Z
DTEND:20260507T131500Z
URL:https://des.convoca.la/event/otro-76
LOCATION:online - https://mysite.com
STATUS:CONFIRMED
CATEGORIES:prueba infinita
BEGIN:VALARM
ACTION:DISPLAY
DESCRIPTION:Otro
TRIGGER:-PT1H
END:VALARM
END:VEVENT
END:VCALENDAR
