BEGIN:VCALENDAR
VERSION:2.0
CALSCALE:GREGORIAN
PRODID:adamgibbons/ics
METHOD:PUBLISH
X-PUBLISHED-TTL:PT1H
BEGIN:VEVENT
UID:5001@des.convoca.la
SUMMARY:Encuentro preparación #15años15M
DTSTAMP:20260425T114845Z
DTSTART:20260426T090000Z
DTEND:20260426T153000Z
DESCRIPTION:Domingo 26 de abril: Nos estamos convocando de nuevo junto con 
	Archivo 15M\n[https://www.blogger.com/u/3/#] y @espaciocomun15m en el cent
	ro social 3peces3\n[https://www.blogger.com/u/3/#] para seguir sumando act
	ividades a la agenda\n#15años15M.\n\nSerá una jornada abierta a la partici
	pación con varios momentos\, puedes sumarte\na todos o al que puedas:\n\n1
	1h-13.30h.- Montaje exposición fotográfica en el centro social \n\n13.30-1
	5.30.- Comida compartida (puedes traer algo para compartir)\n\n15.30-17.30
	.- Asamblea y grupos de trabajo \n\nLugar: Lavapies (Calle 3 Peces\, nº 3)
	\n\nTrae tus ganas de escuchar\, compartir\, y tu experiencia de lo que es
	 la\nhorizontalidad y el ejercicio de lo comunitario.\n\n\n\nhttps://mayog
	lobal.blogspot.com/p/agenda-15anos15m.html\n[https://mayoglobal.blogspot.c
	om/p/agenda-15anos15m.html]\n\nhttps://www.instagram.com/espaciocomun15m/\
	n[https://www.instagram.com/espaciocomun15m/]
URL:https://des.convoca.la/event/encuentro-preparacion-15anos15m
GEO:40.4107691;-3.7001204
LOCATION:CSA  Tres Peces Tres - Calle Tres Peces 3
STATUS:CONFIRMED
CATEGORIES:asamblea,Madrid,Comida,Fotografia,#15años15M,3peces3
X-ALT-DESC;FMTTYPE=text/html:<p>Domingo 26 de abril: Nos estamos convocando
	 de nuevo junto con <a href="https://www.blogger.com/u/3/#" target="_blank
	"><strong>Archivo 15M</strong></a> y @espaciocomun15m en el centro social 
	<a href="https://www.blogger.com/u/3/#" target="_blank"><strong>3peces3</s
	trong></a> para&nbsp;seguir sumando actividades a la agenda #15años15M.</p
	><p>Será una jornada abierta a la participación con varios momentos, puede
	s sumarte a todos o al que puedas:</p><p><strong>11h-13.30h.-</strong> Mon
	taje exposición fotográfica en el centro social&nbsp;</p><p><strong>13.30-
	15.30</strong>.- Comida compartida&nbsp;(puedes traer algo para compartir)
	</p><p><strong>15.30-17.30.</strong>- Asamblea y grupos de trabajo&nbsp;</
	p><p>Lugar: Lavapies (Calle 3 Peces, nº 3)</p><p>Trae tus ganas de escucha
	r, compartir, y tu experiencia de lo que es la horizontalidad y el ejercic
	io de lo comunitario.</p><p></p><p><a href="https://mayoglobal.blogspot.co
	m/p/agenda-15anos15m.html" target="_blank">https://mayoglobal.blogspot.com
	/p/agenda-15anos15m.html</a></p><p><a href="https://www.instagram.com/espa
	ciocomun15m/" target="_blank">https://www.instagram.com/espaciocomun15m/</
	a></p>
BEGIN:VALARM
ACTION:DISPLAY
DESCRIPTION:Encuentro preparación #15años15M
TRIGGER:-PT1H
END:VALARM
END:VEVENT
END:VCALENDAR
