BEGIN:VCALENDAR
VERSION:2.0
CALSCALE:GREGORIAN
PRODID:adamgibbons/ics
METHOD:PUBLISH
X-PUBLISHED-TTL:PT1H
BEGIN:VEVENT
UID:4966@des.convoca.la
SUMMARY:AvANa
DTSTAMP:20260422T214641Z
DTSTART:20260429T173000Z
DTEND:20260429T215500Z
URL:https://des.convoca.la/event/avana-55
LOCATION:CSOA Forte Prenestino - via Federico Delpino\, Roma
STATUS:CONFIRMED
CATEGORIES:
BEGIN:VALARM
ACTION:DISPLAY
DESCRIPTION:AvANa
TRIGGER:-PT1H
END:VALARM
END:VEVENT
END:VCALENDAR
